BEGIN:VCALENDAR
VERSION:2.0
PRODID:-//DIOCESI DI ROMA - ECPv4.6.14.1//NONSGML v1.0//EN
CALSCALE:GREGORIAN
METHOD:PUBLISH
X-WR-CALNAME:DIOCESI DI ROMA
X-ORIGINAL-URL:https://www.diocesidiroma.it
X-WR-CALDESC:Eventi per DIOCESI DI ROMA
BEGIN:VEVENT
DTSTART;TZID=Europe/Rome:20231214T163000
DTEND;TZID=Europe/Rome:20231214T163000
DTSTAMP:20260424T020440
CREATED:20231207T142228Z
LAST-MODIFIED:20231207T142228Z
UID:28121-1702571400-1702571400@www.diocesidiroma.it
SUMMARY:Nella Parrocchia del SS. Salvatore e SS. Giovanni Battista ed Evangelista in Laterano incontra la comunità accademica dell’Istituto Superiore di Scienze Religiose Ecclesia Mater e celebra la Messa di Natale
DESCRIPTION:Nella Parrocchia del SS. Salvatore e SS. Giovanni Battista ed Evangelista in Laterano incontra la comunità accademica dell’Istituto Superiore di Scienze Religiose Ecclesia Mater e celebra la Messa di Natale. \n
URL:https://www.diocesidiroma.it/event/nella-parrocchia-del-ss-salvatore-e-ss-giovanni-battista-ed-evangelista-in-laterano-incontra-la-comunita-accademica-dellistituto-superiore-di-scienze-religiose-ecclesia-mater-e-celebra-la-m/
CATEGORIES:NON USARE --- Agenda del Vicario
END:VEVENT
END:VCALENDAR