BEGIN:VCALENDAR
VERSION:2.0
PRODID:-//DIOCESI DI ROMA - ECPv4.6.14.1//NONSGML v1.0//EN
CALSCALE:GREGORIAN
METHOD:PUBLISH
X-WR-CALNAME:DIOCESI DI ROMA
X-ORIGINAL-URL:https://www.diocesidiroma.it
X-WR-CALDESC:Eventi per DIOCESI DI ROMA
BEGIN:VEVENT
DTSTART;TZID=Europe/Rome:20221022T183000
DTEND;TZID=Europe/Rome:20221022T183000
DTSTAMP:20260424T080911
CREATED:20221014T084322Z
LAST-MODIFIED:20221014T084322Z
UID:23514-1666463400-1666463400@www.diocesidiroma.it
SUMMARY:Nella parrocchia di Nostra Signora di Czestochowa celebra la Messa in occasione della visita pastorale
DESCRIPTION:Nella parrocchia di Nostra Signora di Czestochowa celebra la Messa in occasione della visita pastorale. \n
URL:https://www.diocesidiroma.it/event/nella-parrocchia-di-nostra-signora-di-czestochowa-celebra-la-messa-in-occasione-della-visita-pastorale/
CATEGORIES:NON USARE --- Agenda del Vicario
END:VEVENT
END:VCALENDAR