BEGIN:VCALENDAR
VERSION:2.0
PRODID:-//DIOCESI DI ROMA - ECPv4.6.14.1//NONSGML v1.0//EN
CALSCALE:GREGORIAN
METHOD:PUBLISH
X-WR-CALNAME:DIOCESI DI ROMA
X-ORIGINAL-URL:https://www.diocesidiroma.it
X-WR-CALDESC:Eventi per DIOCESI DI ROMA
BEGIN:VEVENT
DTSTART;TZID=Europe/Rome:20221215T103000
DTEND;TZID=Europe/Rome:20221215T103000
DTSTAMP:20260421T060811
CREATED:20221209T100925Z
LAST-MODIFIED:20221209T101123Z
UID:24416-1671100200-1671100200@www.diocesidiroma.it
SUMMARY:Nella parrocchia di S. Igino Papa incontra i sacerdoti della XII Prefettura
DESCRIPTION:Nella parrocchia di S. Igino Papa incontra i sacerdoti della XII Prefettura. \n
URL:https://www.diocesidiroma.it/event/nella-parrocchia-di-s-igino-papa-incontra-i-sacerdoti-della-xii-prefettura/
CATEGORIES:NON USARE --- Agenda del Vicario
END:VEVENT
END:VCALENDAR