BEGIN:VCALENDAR
VERSION:2.0
PRODID:-//DIOCESI DI ROMA - ECPv4.6.14.1//NONSGML v1.0//EN
CALSCALE:GREGORIAN
METHOD:PUBLISH
X-WR-CALNAME:DIOCESI DI ROMA
X-ORIGINAL-URL:https://www.diocesidiroma.it
X-WR-CALDESC:Eventi per DIOCESI DI ROMA
BEGIN:VEVENT
DTSTART;TZID=Europe/Rome:20230420T103000
DTEND;TZID=Europe/Rome:20230420T103000
DTSTAMP:20260420T195608
CREATED:20230414T112924Z
LAST-MODIFIED:20230414T112924Z
UID:26017-1681986600-1681986600@www.diocesidiroma.it
SUMMARY:Nella parrocchia di San Camillo de Lellis incontra i sacerdoti della IV Prefettura
DESCRIPTION:Nella parrocchia di San Camillo de Lellis incontra i sacerdoti della IV Prefettura. \n
URL:https://www.diocesidiroma.it/event/nella-parrocchia-di-san-camillo-de-lellis-incontra-i-sacerdoti-della-iv-prefettura/
CATEGORIES:NON USARE --- Agenda del Vicario
END:VEVENT
END:VCALENDAR