BEGIN:VCALENDAR
VERSION:2.0
PRODID:-//DIOCESI DI ROMA - ECPv4.6.14.1//NONSGML v1.0//EN
CALSCALE:GREGORIAN
METHOD:PUBLISH
X-WR-CALNAME:DIOCESI DI ROMA
X-ORIGINAL-URL:https://www.diocesidiroma.it
X-WR-CALDESC:Eventi per DIOCESI DI ROMA
BEGIN:VEVENT
DTSTART;TZID=Europe/Rome:20210319T173000
DTEND;TZID=Europe/Rome:20210319T173000
DTSTAMP:20260420T183545
CREATED:20210312T122339Z
LAST-MODIFIED:20210312T122339Z
UID:14298-1616175000-1616175000@www.diocesidiroma.it
SUMMARY:Nella parrocchia di San Cirillo Alessandrino presiede il rito di una Prima Professione
DESCRIPTION:Nella parrocchia di San Cirillo Alessandrino presiede il rito di una Prima Professione. \n
URL:https://www.diocesidiroma.it/event/nella-parrocchia-di-san-cirillo-alessandrino-presiede-il-rito-di-una-prima-professione/
CATEGORIES:NON USARE --- Agenda del Vicario
END:VEVENT
END:VCALENDAR