BEGIN:VCALENDAR
VERSION:2.0
PRODID:-//DIOCESI DI ROMA - ECPv4.6.14.1//NONSGML v1.0//EN
CALSCALE:GREGORIAN
METHOD:PUBLISH
X-WR-CALNAME:DIOCESI DI ROMA
X-ORIGINAL-URL:https://www.diocesidiroma.it
X-WR-CALDESC:Eventi per DIOCESI DI ROMA
BEGIN:VEVENT
DTSTART;TZID=Europe/Rome:20211008T190000
DTEND;TZID=Europe/Rome:20211008T190000
DTSTAMP:20260424T070734
CREATED:20211001T095306Z
LAST-MODIFIED:20211001T095435Z
UID:18231-1633719600-1633719600@www.diocesidiroma.it
SUMMARY:Nella parrocchia di San Crispino da Viterbo incontra il Consiglio Pastorale parrocchiale
DESCRIPTION:Nella parrocchia di San Crispino da Viterbo incontra il Consiglio Pastorale parrocchiale. \n
URL:https://www.diocesidiroma.it/event/nella-parrocchia-di-san-crispino-da-viterbo-incontra-il-consiglio-pastorale-parrocchiale/
CATEGORIES:NON USARE --- Agenda del Vicario
END:VEVENT
END:VCALENDAR