BEGIN:VCALENDAR
VERSION:2.0
PRODID:-//DIOCESI DI ROMA - ECPv4.6.14.1//NONSGML v1.0//EN
CALSCALE:GREGORIAN
METHOD:PUBLISH
X-WR-CALNAME:DIOCESI DI ROMA
X-ORIGINAL-URL:https://www.diocesidiroma.it
X-WR-CALDESC:Eventi per DIOCESI DI ROMA
BEGIN:VEVENT
DTSTART;TZID=Europe/Rome:20201031T100000
DTEND;TZID=Europe/Rome:20201031T100000
DTSTAMP:20260422T114610
CREATED:20201023T111056Z
LAST-MODIFIED:20201023T111056Z
UID:12222-1604138400-1604138400@www.diocesidiroma.it
SUMMARY:Nella parrocchia di San Frumenzio presiede l’assemblea parrocchiale sul cammino pastorale diocesano
DESCRIPTION:Nella parrocchia di San Frumenzio presiede l’assemblea parrocchiale sul cammino pastorale diocesano. \n
URL:https://www.diocesidiroma.it/event/nella-parrocchia-di-san-frumenzio-presiede-lassemblea-parrocchiale-sul-cammino-pastorale-diocesano/
CATEGORIES:NON USARE --- Agenda del Vicario
END:VEVENT
END:VCALENDAR