BEGIN:VCALENDAR
VERSION:2.0
PRODID:-//DIOCESI DI ROMA - ECPv4.6.14.1//NONSGML v1.0//EN
CALSCALE:GREGORIAN
METHOD:PUBLISH
X-WR-CALNAME:DIOCESI DI ROMA
X-ORIGINAL-URL:https://www.diocesidiroma.it
X-WR-CALDESC:Eventi per DIOCESI DI ROMA
BEGIN:VEVENT
DTSTART;TZID=Europe/Rome:20251116T103000
DTEND;TZID=Europe/Rome:20251116T103000
DTSTAMP:20260422T082324
CREATED:20251107T111816Z
LAST-MODIFIED:20251107T111816Z
UID:38471-1763289000-1763289000@www.diocesidiroma.it
SUMMARY:Nella parrocchia di San Giuliano per l’ingresso del nuovo parroco
DESCRIPTION:Nella parrocchia di San Giuliano per l’ingresso del nuovo parroco  \n
URL:https://www.diocesidiroma.it/event/nella-parrocchia-di-san-giuliano-per-lingresso-del-nuovo-parroco/
CATEGORIES:Vicario Generale
END:VEVENT
END:VCALENDAR