BEGIN:VCALENDAR
VERSION:2.0
PRODID:-//DIOCESI DI ROMA - ECPv4.6.14.1//NONSGML v1.0//EN
CALSCALE:GREGORIAN
METHOD:PUBLISH
X-WR-CALNAME:DIOCESI DI ROMA
X-ORIGINAL-URL:https://www.diocesidiroma.it
X-WR-CALDESC:Eventi per DIOCESI DI ROMA
BEGIN:VEVENT
DTSTART;TZID=Europe/Rome:20240222T100000
DTEND;TZID=Europe/Rome:20240222T100000
DTSTAMP:20260420T220149
CREATED:20240216T124435Z
LAST-MODIFIED:20240220T114657Z
UID:28929-1708596000-1708596000@www.diocesidiroma.it
SUMMARY:Nella parrocchia di San Giuseppe al Trionfale incontra i sacerdoti della XXXII Prefettura
DESCRIPTION:Nella parrocchia di San Giuseppe al Trionfale incontra i sacerdoti della XXXII Prefettura \n
URL:https://www.diocesidiroma.it/event/nella-parrocchia-di-san-giuseppe-al-trionfale-incontra-i-sacerdoti-della-xxxv-prefettura/
CATEGORIES:NON USARE --- Agenda del Vicario
END:VEVENT
END:VCALENDAR