BEGIN:VCALENDAR
VERSION:2.0
PRODID:-//DIOCESI DI ROMA - ECPv4.6.14.1//NONSGML v1.0//EN
CALSCALE:GREGORIAN
METHOD:PUBLISH
X-WR-CALNAME:DIOCESI DI ROMA
X-ORIGINAL-URL:https://www.diocesidiroma.it
X-WR-CALDESC:Eventi per DIOCESI DI ROMA
BEGIN:VEVENT
DTSTART;TZID=Europe/Rome:20231123T103000
DTEND;TZID=Europe/Rome:20231123T103000
DTSTAMP:20260422T175317
CREATED:20231117T120508Z
LAST-MODIFIED:20231117T120508Z
UID:27962-1700735400-1700735400@www.diocesidiroma.it
SUMMARY:Nella parrocchia di San Saba incontra i sacerdoti della III Prefettura
DESCRIPTION:Nella parrocchia di San Saba incontra i sacerdoti della III Prefettura. \n
URL:https://www.diocesidiroma.it/event/nella-parrocchia-di-san-saba-incontra-i-sacerdoti-della-iii-prefettura/
CATEGORIES:NON USARE --- Agenda del Vicario
END:VEVENT
END:VCALENDAR