BEGIN:VCALENDAR
VERSION:2.0
PRODID:-//DIOCESI DI ROMA - ECPv4.6.14.1//NONSGML v1.0//EN
CALSCALE:GREGORIAN
METHOD:PUBLISH
X-WR-CALNAME:DIOCESI DI ROMA
X-ORIGINAL-URL:https://www.diocesidiroma.it
X-WR-CALDESC:Eventi per DIOCESI DI ROMA
BEGIN:VEVENT
DTSTART;TZID=Europe/Rome:20220424T120000
DTEND;TZID=Europe/Rome:20220424T120000
DTSTAMP:20260422T004344
CREATED:20220413T080358Z
LAST-MODIFIED:20220413T080358Z
UID:21110-1650801600-1650801600@www.diocesidiroma.it
SUMMARY:Nella parrocchia di Santa Gemma Galgani celebra la Messa in occasione della visita pastorale
DESCRIPTION:Nella parrocchia di Santa Gemma Galgani celebra la Messa in occasione della visita pastorale \n
URL:https://www.diocesidiroma.it/event/nella-parrocchia-di-santa-gemma-galgani-celebra-la-messa-in-occasione-della-visita-pastorale/
CATEGORIES:NON USARE --- Agenda del Vicario
END:VEVENT
END:VCALENDAR