BEGIN:VCALENDAR
VERSION:2.0
PRODID:-//DIOCESI DI ROMA - ECPv4.6.14.1//NONSGML v1.0//EN
CALSCALE:GREGORIAN
METHOD:PUBLISH
X-WR-CALNAME:DIOCESI DI ROMA
X-ORIGINAL-URL:https://www.diocesidiroma.it
X-WR-CALDESC:Eventi per DIOCESI DI ROMA
BEGIN:VEVENT
DTSTART;TZID=Europe/Rome:20230317T180000
DTEND;TZID=Europe/Rome:20230317T180000
DTSTAMP:20260423T182422
CREATED:20230310T125318Z
LAST-MODIFIED:20230310T125318Z
UID:25656-1679076000-1679076000@www.diocesidiroma.it
SUMMARY:Nella parrocchia di Santa Maria Addolorata celebra la Messa in occasione della visita pastorale
DESCRIPTION: Nella parrocchia di Santa Maria Addolorata celebra la Messa in occasione della visita pastorale. \n
URL:https://www.diocesidiroma.it/event/nella-parrocchia-di-santa-maria-addolorata-celebra-la-messa-in-occasione-della-visita-pastorale/
CATEGORIES:NON USARE --- Agenda del Vicario
END:VEVENT
END:VCALENDAR