BEGIN:VCALENDAR
VERSION:2.0
PRODID:-//DIOCESI DI ROMA - ECPv4.6.14.1//NONSGML v1.0//EN
CALSCALE:GREGORIAN
METHOD:PUBLISH
X-WR-CALNAME:DIOCESI DI ROMA
X-ORIGINAL-URL:https://www.diocesidiroma.it
X-WR-CALDESC:Eventi per DIOCESI DI ROMA
BEGIN:VEVENT
DTSTART;TZID=Europe/Rome:20230318T190000
DTEND;TZID=Europe/Rome:20230318T190000
DTSTAMP:20260424T074503
CREATED:20230310T125449Z
LAST-MODIFIED:20230310T125449Z
UID:25660-1679166000-1679166000@www.diocesidiroma.it
SUMMARY:Nella parrocchia di Santa Maria ai Monti celebra la Messa in occasione della benedizione della stele commemorativa del Servo di Dio Guglielmo Giaquinta
DESCRIPTION:Nella parrocchia di Santa Maria ai Monti celebra la Messa in occasione della benedizione della stele commemorativa del Servo di Dio Guglielmo Giaquinta. \n
URL:https://www.diocesidiroma.it/event/nella-parrocchia-di-santa-maria-ai-monti-celebra-la-messa-in-occasione-della-benedizione-della-stele-commemorativa-del-servo-di-dio-guglielmo-giaquinta/
CATEGORIES:NON USARE --- Agenda del Vicario
END:VEVENT
END:VCALENDAR