BEGIN:VCALENDAR
VERSION:2.0
PRODID:-//DIOCESI DI ROMA - ECPv4.6.14.1//NONSGML v1.0//EN
CALSCALE:GREGORIAN
METHOD:PUBLISH
X-WR-CALNAME:DIOCESI DI ROMA
X-ORIGINAL-URL:https://www.diocesidiroma.it
X-WR-CALDESC:Eventi per DIOCESI DI ROMA
BEGIN:VEVENT
DTSTART;TZID=Europe/Rome:20231026T103000
DTEND;TZID=Europe/Rome:20231026T103000
DTSTAMP:20260421T095529
CREATED:20231020T110001Z
LAST-MODIFIED:20231020T110001Z
UID:27686-1698316200-1698316200@www.diocesidiroma.it
SUMMARY:Nella parrocchia di Santa Maria della Perseveranza incontra i sacerdoti della XXI Prefettura
DESCRIPTION:Nella parrocchia di Santa Maria della Perseveranza incontra i sacerdoti della XXI Prefettura. \n
URL:https://www.diocesidiroma.it/event/nella-parrocchia-di-santa-maria-della-perseveranza-incontra-i-sacerdoti-della-xxi-prefettura/
CATEGORIES:NON USARE --- Agenda del Vicario
END:VEVENT
END:VCALENDAR