BEGIN:VCALENDAR
VERSION:2.0
PRODID:-//DIOCESI DI ROMA - ECPv4.6.14.1//NONSGML v1.0//EN
CALSCALE:GREGORIAN
METHOD:PUBLISH
X-WR-CALNAME:DIOCESI DI ROMA
X-ORIGINAL-URL:https://www.diocesidiroma.it
X-WR-CALDESC:Eventi per DIOCESI DI ROMA
BEGIN:VEVENT
DTSTART;TZID=Europe/Rome:20181005T200000
DTEND;TZID=Europe/Rome:20181005T200000
DTSTAMP:20260424T074350
CREATED:20180928T084716Z
LAST-MODIFIED:20180928T084716Z
UID:4783-1538769600-1538769600@www.diocesidiroma.it
SUMMARY:Nella parrocchia di Santa Maria della Perseveranza incontra la comunità e partecipa alla proiezione del video sul Beato Giacomo Cusmano
DESCRIPTION:Nella parrocchia di Santa Maria della Perseveranza incontra la comunità e partecipa alla proiezione del video sul Beato Giacomo Cusmano. \n
URL:https://www.diocesidiroma.it/event/nella-parrocchia-di-santa-maria-della-perseveranza-incontra-la-comunita-e-partecipa-alla-proiezione-del-video-sul-beato-giacomo-cusmano/
CATEGORIES:NON USARE --- Agenda del Vicario
END:VEVENT
END:VCALENDAR