BEGIN:VCALENDAR
VERSION:2.0
PRODID:-//DIOCESI DI ROMA - ECPv4.6.14.1//NONSGML v1.0//EN
CALSCALE:GREGORIAN
METHOD:PUBLISH
X-WR-CALNAME:DIOCESI DI ROMA
X-ORIGINAL-URL:https://www.diocesidiroma.it
X-WR-CALDESC:Eventi per DIOCESI DI ROMA
BEGIN:VEVENT
DTSTART;TZID=Europe/Rome:20240201T183000
DTEND;TZID=Europe/Rome:20240201T183000
DTSTAMP:20260422T011737
CREATED:20240126T083945Z
LAST-MODIFIED:20240126T083945Z
UID:28719-1706812200-1706812200@www.diocesidiroma.it
SUMMARY:Nella parrocchia di Santa Maria in Portico celebra la Messa in occasione dell’apertura delle celebrazioni per il XV centenario dell’apparizione di Santa Maria in Portico
DESCRIPTION:Nella parrocchia di Santa Maria in Portico celebra la Messa in occasione dell’apertura delle celebrazioni per il XV centenario dell’apparizione di Santa Maria in Portico. \n
URL:https://www.diocesidiroma.it/event/nella-parrocchia-di-santa-maria-in-portico-celebra-la-messa-in-occasione-dellapertura-delle-celebrazioni-per-il-xv-centenario-dellapparizione-di-santa-maria-in-portico/
CATEGORIES:NON USARE --- Agenda del Vicario
END:VEVENT
END:VCALENDAR