BEGIN:VCALENDAR
VERSION:2.0
PRODID:-//DIOCESI DI ROMA - ECPv4.6.14.1//NONSGML v1.0//EN
CALSCALE:GREGORIAN
METHOD:PUBLISH
X-WR-CALNAME:DIOCESI DI ROMA
X-ORIGINAL-URL:https://www.diocesidiroma.it
X-WR-CALDESC:Eventi per DIOCESI DI ROMA
BEGIN:VEVENT
DTSTART;TZID=Europe/Rome:20240118T103000
DTEND;TZID=Europe/Rome:20240118T103000
DTSTAMP:20260423T230042
CREATED:20240112T090611Z
LAST-MODIFIED:20240112T090621Z
UID:28450-1705573800-1705573800@www.diocesidiroma.it
SUMMARY:Nella parrocchia di Santa Monica incontra i sacerdoti della XXVI Prefettura
DESCRIPTION:Nella parrocchia di Santa Monica incontra i sacerdoti della XXVI Prefettura \n
URL:https://www.diocesidiroma.it/event/nella-parrocchia-di-santa-monica-incontra-i-sacerdoti-della-xxvi-prefettura/
CATEGORIES:NON USARE --- Agenda del Vicario
END:VEVENT
END:VCALENDAR