BEGIN:VCALENDAR
VERSION:2.0
PRODID:-//DIOCESI DI ROMA - ECPv4.6.14.1//NONSGML v1.0//EN
CALSCALE:GREGORIAN
METHOD:PUBLISH
X-WR-CALNAME:DIOCESI DI ROMA
X-ORIGINAL-URL:https://www.diocesidiroma.it
X-WR-CALDESC:Eventi per DIOCESI DI ROMA
BEGIN:VEVENT
DTSTART;TZID=Europe/Rome:20190322T200000
DTEND;TZID=Europe/Rome:20190322T200000
DTSTAMP:20260421T141046
CREATED:20190315T120212Z
LAST-MODIFIED:20190315T120212Z
UID:7102-1553284800-1553284800@www.diocesidiroma.it
SUMMARY:Nella parrocchia Nostra Signora di Bonaria partecipa alla presentazione del libro “Il Cuore: l’uno e l’insieme” di don Franco Nardin insieme a monsignor Antonio Mennini
DESCRIPTION:Nella parrocchia Nostra Signora di Bonaria partecipa alla presentazione del libro “Il Cuore: l’uno e l’insieme” di don Franco Nardin insieme a monsignor Antonio Mennini.  \n
URL:https://www.diocesidiroma.it/event/nella-parrocchia-nostra-signora-di-bonaria-partecipa-alla-presentazione-del-libro-il-cuore-luno-e-linsieme-di-don-franco-nardin-insieme-a-monsignor-antonio-mennini/
CATEGORIES:NON USARE --- Agenda del Vicario
END:VEVENT
END:VCALENDAR