BEGIN:VCALENDAR
VERSION:2.0
PRODID:-//DIOCESI DI ROMA - ECPv4.6.14.1//NONSGML v1.0//EN
CALSCALE:GREGORIAN
METHOD:PUBLISH
X-WR-CALNAME:DIOCESI DI ROMA
X-ORIGINAL-URL:https://www.diocesidiroma.it
X-WR-CALDESC:Eventi per DIOCESI DI ROMA
BEGIN:VEVENT
DTSTART;TZID=Europe/Rome:20190302T160000
DTEND;TZID=Europe/Rome:20190302T160000
DTSTAMP:20260422T113632
CREATED:20190222T100547Z
LAST-MODIFIED:20190222T100547Z
UID:6731-1551542400-1551542400@www.diocesidiroma.it
SUMMARY:Nella Sala Convegni della Stazione Termini conclude i lavori del convegno in occasione del 1° centenario dell’“Appello ai liberi e forti di Don Luigi Sturzo” organizzato dalla Conferenza episcopale laziale
DESCRIPTION:Nella Sala Convegni della Stazione Termini conclude i lavori del convegno in occasione del 1° centenario dell’“Appello ai liberi e forti di Don Luigi Sturzo” organizzato dalla Conferenza episcopale laziale. \n
URL:https://www.diocesidiroma.it/event/nella-sala-convegni-della-stazione-termini-conclude-i-lavori-del-convegno-in-occasione-del-1-centenario-dellappello-ai-liberi-e-forti-di-don-luigi-sturzo-organizzato-d/
CATEGORIES:NON USARE --- Agenda del Vicario
END:VEVENT
END:VCALENDAR