BEGIN:VCALENDAR
VERSION:2.0
PRODID:-//DIOCESI DI ROMA - ECPv4.6.14.1//NONSGML v1.0//EN
CALSCALE:GREGORIAN
METHOD:PUBLISH
X-WR-CALNAME:DIOCESI DI ROMA
X-ORIGINAL-URL:https://www.diocesidiroma.it
X-WR-CALDESC:Eventi per DIOCESI DI ROMA
BEGIN:VEVENT
DTSTART;TZID=Europe/Rome:20230130T170000
DTEND;TZID=Europe/Rome:20230130T170000
DTSTAMP:20260426T031556
CREATED:20230127T103853Z
LAST-MODIFIED:20230127T103853Z
UID:24985-1675098000-1675098000@www.diocesidiroma.it
SUMMARY:Nella Sala degli Imperatori del Vicariato di Roma presiede il tavolo di ascolto sinodale con i rettori delle Università di Roma e del Lazio promosso dalla diocesi
DESCRIPTION:Nella Sala degli Imperatori del Vicariato di Roma presiede il tavolo di ascolto sinodale con i rettori delle Università di Roma e del Lazio promosso dalla diocesi. \n
URL:https://www.diocesidiroma.it/event/nella-sala-degli-imperatori-del-vicariato-di-roma-presiede-il-tavolo-di-ascolto-sinodale-con-i-rettori-delle-universita-di-roma-e-del-lazio-promosso-dalla-diocesi/
CATEGORIES:NON USARE --- Agenda del Vicario
END:VEVENT
END:VCALENDAR