BEGIN:VCALENDAR
VERSION:2.0
PRODID:-//DIOCESI DI ROMA - ECPv4.6.14.1//NONSGML v1.0//EN
CALSCALE:GREGORIAN
METHOD:PUBLISH
X-WR-CALNAME:DIOCESI DI ROMA
X-ORIGINAL-URL:https://www.diocesidiroma.it
X-WR-CALDESC:Eventi per DIOCESI DI ROMA
BEGIN:VEVENT
DTSTART;TZID=Europe/Rome:20221205T100000
DTEND;TZID=Europe/Rome:20221205T100000
DTSTAMP:20260422T072103
CREATED:20221202T085033Z
LAST-MODIFIED:20221202T085033Z
UID:24349-1670234400-1670234400@www.diocesidiroma.it
SUMMARY:Nella Sala degli Imperatori del Vicariato presiede il convegno su “L’azzardo non è un gioco e sollecita la responsabilità” organizzato dalla Commissione per il Servizio della Carità della Conferenza Episcopale del Lazio
DESCRIPTION:Nella Sala degli Imperatori del Vicariato presiede il convegno su “L’azzardo non è un gioco e sollecita la responsabilità” organizzato dalla Commissione per il Servizio della Carità della Conferenza Episcopale del Lazio. \n
URL:https://www.diocesidiroma.it/event/nella-sala-degli-imperatori-del-vicariato-presiede-il-convegno-su-lazzardo-non-e-un-gioco-e-sollecita-la-responsabilita-organizzato-dalla-commissione-per-il-servizio-della-c/
CATEGORIES:NON USARE --- Agenda del Vicario
END:VEVENT
END:VCALENDAR