BEGIN:VCALENDAR
VERSION:2.0
PRODID:-//DIOCESI DI ROMA - ECPv4.6.14.1//NONSGML v1.0//EN
CALSCALE:GREGORIAN
METHOD:PUBLISH
X-WR-CALNAME:DIOCESI DI ROMA
X-ORIGINAL-URL:https://www.diocesidiroma.it
X-WR-CALDESC:Eventi per DIOCESI DI ROMA
BEGIN:VEVENT
DTSTART;TZID=Europe/Rome:20210607T100000
DTEND;TZID=Europe/Rome:20210607T100000
DTSTAMP:20260422T143450
CREATED:20210604T105020Z
LAST-MODIFIED:20210604T105020Z
UID:16023-1623060000-1623060000@www.diocesidiroma.it
SUMMARY:Nella Sala della Conciliazione del Vicariato\, presiede il Consiglio Presbiterale
DESCRIPTION:Nella Sala della Conciliazione del Vicariato\, presiede il Consiglio Presbiterale. \n
URL:https://www.diocesidiroma.it/event/nella-sala-della-conciliazione-del-vicariato-presiede-il-consiglio-presbiterale/
CATEGORIES:NON USARE --- Agenda del Vicario
END:VEVENT
END:VCALENDAR