BEGIN:VCALENDAR
VERSION:2.0
PRODID:-//DIOCESI DI ROMA - ECPv4.6.14.1//NONSGML v1.0//EN
CALSCALE:GREGORIAN
METHOD:PUBLISH
X-WR-CALNAME:DIOCESI DI ROMA
X-ORIGINAL-URL:https://www.diocesidiroma.it
X-WR-CALDESC:Eventi per DIOCESI DI ROMA
BEGIN:VEVENT
DTSTART;TZID=Europe/Rome:20191026T103000
DTEND;TZID=Europe/Rome:20191026T103000
DTSTAMP:20260422T161942
CREATED:20191018T080235Z
LAST-MODIFIED:20191018T080235Z
UID:9087-1572085800-1572085800@www.diocesidiroma.it
SUMMARY:Nella Sala della Conciliazione presiede l’incontro in occasione della consegna del “Premio Don Andrea Santoro”
DESCRIPTION:Nella Sala della Conciliazione presiede l’incontro in occasione della consegna del “Premio Don Andrea Santoro”. \n
URL:https://www.diocesidiroma.it/event/nella-sala-della-conciliazione-presiede-lincontro-in-occasione-della-consegna-del-premio-don-andrea-santoro/
CATEGORIES:NON USARE --- Agenda del Vicario
END:VEVENT
END:VCALENDAR