BEGIN:VCALENDAR
VERSION:2.0
PRODID:-//DIOCESI DI ROMA - ECPv4.6.14.1//NONSGML v1.0//EN
CALSCALE:GREGORIAN
METHOD:PUBLISH
X-WR-CALNAME:DIOCESI DI ROMA
X-ORIGINAL-URL:https://www.diocesidiroma.it
X-WR-CALDESC:Eventi per DIOCESI DI ROMA
BEGIN:VEVENT
DTSTART;TZID=Europe/Rome:20220401T120000
DTEND;TZID=Europe/Rome:20220401T120000
DTSTAMP:20260421T230928
CREATED:20220325T083711Z
LAST-MODIFIED:20220325T083711Z
UID:20942-1648814400-1648814400@www.diocesidiroma.it
SUMMARY:Nella Sala Poletti del Vicariato di Roma presiede la presentazione del Rapporto “La povertà a Roma: un punto di vista false ripartenze? Anno 2021” preparato dalla Caritas diocesana
DESCRIPTION:Nella Sala Poletti del Vicariato di Roma presiede la presentazione del Rapporto “La povertà a Roma: un punto di vista false ripartenze? Anno 2021” preparato dalla Caritas diocesana \n
URL:https://www.diocesidiroma.it/event/nella-sala-poletti-del-vicariato-di-roma-presiede-la-presentazione-del-rapporto-la-poverta-a-roma-un-punto-di-vista-false-ripartenze-anno-2021-preparato-dalla-caritas-diocesana/
CATEGORIES:NON USARE --- Agenda del Vicario
END:VEVENT
END:VCALENDAR