BEGIN:VCALENDAR
VERSION:2.0
PRODID:-//DIOCESI DI ROMA - ECPv4.6.14.1//NONSGML v1.0//EN
CALSCALE:GREGORIAN
METHOD:PUBLISH
X-WR-CALNAME:DIOCESI DI ROMA
X-ORIGINAL-URL:https://www.diocesidiroma.it
X-WR-CALDESC:Eventi per DIOCESI DI ROMA
BEGIN:VEVENT
DTSTART;TZID=Europe/Rome:20200926T163000
DTEND;TZID=Europe/Rome:20200926T173000
DTSTAMP:20260421T024557
CREATED:20200918T103929Z
LAST-MODIFIED:20200918T103944Z
UID:11724-1601137800-1601141400@www.diocesidiroma.it
SUMMARY:Nella Sede Nazionale del Rinnovamento nello Spirito Santo presiede l’atto di affidamento a Maria in occasione del International Web Meeting Alleluja
DESCRIPTION:Nella Sede Nazionale del Rinnovamento nello Spirito Santo presiede l’atto di affidamento a Maria in occasione del International Web Meeting Alleluja. \n
URL:https://www.diocesidiroma.it/event/nella-sede-nazionale-del-rinnovamento-nello-spirito-santo-presiede-latto-di-affidamento-a-maria-in-occasione-del-international-web-meeting-alleluja/
CATEGORIES:NON USARE --- Agenda del Vicario
END:VEVENT
END:VCALENDAR