BEGIN:VCALENDAR
VERSION:2.0
PRODID:-//DIOCESI DI ROMA - ECPv4.6.14.1//NONSGML v1.0//EN
CALSCALE:GREGORIAN
METHOD:PUBLISH
X-WR-CALNAME:DIOCESI DI ROMA
X-ORIGINAL-URL:https://www.diocesidiroma.it
X-WR-CALDESC:Eventi per DIOCESI DI ROMA
BEGIN:VEVENT
DTSTART;TZID=Europe/Rome:20190205T160000
DTEND;TZID=Europe/Rome:20190205T160000
DTSTAMP:20260425T124151
CREATED:20190201T082458Z
LAST-MODIFIED:20190201T082458Z
UID:6267-1549382400-1549382400@www.diocesidiroma.it
SUMMARY:Nell’Aula della Conciliazione del Palazzo Lateranense presiede la sessione di apertura della causa di beatificazione e canonizzazione del Servo di Dio padre Pedro Arrupe
DESCRIPTION:Nell’Aula della Conciliazione del Palazzo Lateranense presiede la sessione di apertura della causa di beatificazione e canonizzazione del Servo di Dio padre Pedro Arrupe. \n
URL:https://www.diocesidiroma.it/event/nellaula-della-conciliazione-del-palazzo-lateranense-presiede-la-sessione-di-apertura-della-causa-di-beatificazione-e-canonizzazione-del-servo-di-dio-padre-pedro-arrupe/
CATEGORIES:NON USARE --- Agenda del Vicario
END:VEVENT
END:VCALENDAR