BEGIN:VCALENDAR
VERSION:2.0
PRODID:-//DIOCESI DI ROMA - ECPv4.6.14.1//NONSGML v1.0//EN
CALSCALE:GREGORIAN
METHOD:PUBLISH
X-WR-CALNAME:DIOCESI DI ROMA
X-ORIGINAL-URL:https://www.diocesidiroma.it
X-WR-CALDESC:Eventi per DIOCESI DI ROMA
BEGIN:VEVENT
DTSTART;TZID=Europe/Rome:20240219T160000
DTEND;TZID=Europe/Rome:20240219T160000
DTSTAMP:20260423T220819
CREATED:20240216T124239Z
LAST-MODIFIED:20240216T124239Z
UID:28923-1708358400-1708358400@www.diocesidiroma.it
SUMMARY:Nell’Aula della Conciliazione del Vicariato di Roma presiede il Convegno “(Dis)Uguaglianze a 50 anni dal Convegno sui Mali di Roma”
DESCRIPTION:Nell’Aula della Conciliazione del Vicariato di Roma presiede il Convegno “(Dis)Uguaglianze a 50 anni dal Convegno sui Mali di Roma”. \n
URL:https://www.diocesidiroma.it/event/nellaula-della-conciliazione-del-vicariato-di-roma-presiede-il-convegno-disuguaglianze-a-50-anni-dal-convegno-sui-mali-di-roma/
CATEGORIES:NON USARE --- Agenda del Vicario
END:VEVENT
END:VCALENDAR