BEGIN:VCALENDAR
VERSION:2.0
PRODID:-//DIOCESI DI ROMA - ECPv4.6.14.1//NONSGML v1.0//EN
CALSCALE:GREGORIAN
METHOD:PUBLISH
X-WR-CALNAME:DIOCESI DI ROMA
X-ORIGINAL-URL:https://www.diocesidiroma.it
X-WR-CALDESC:Eventi per DIOCESI DI ROMA
BEGIN:VEVENT
DTSTART;TZID=Europe/Rome:20260325T160000
DTEND;TZID=Europe/Rome:20260325T160000
DTSTAMP:20260421T070725
CREATED:20260320T112535Z
LAST-MODIFIED:20260320T112535Z
UID:40632-1774454400-1774454400@www.diocesidiroma.it
SUMMARY:Nell’Aula della Conciliazione partecipa al convegno “François Xavier Nguyen Van Thuan\, Testimone di speranza”
DESCRIPTION:Nell’Aula della Conciliazione partecipa al convegno “François Xavier Nguyen Van Thuan\, Testimone di speranza” \n
URL:https://www.diocesidiroma.it/event/nellaula-della-conciliazione-partecipa-al-convegno-francois-xavier-nguyen-van-thuan-testimone-di-speranza/
CATEGORIES:Vicario Generale
END:VEVENT
END:VCALENDAR