BEGIN:VCALENDAR
VERSION:2.0
PRODID:-//DIOCESI DI ROMA - ECPv4.6.14.1//NONSGML v1.0//EN
CALSCALE:GREGORIAN
METHOD:PUBLISH
X-WR-CALNAME:DIOCESI DI ROMA
X-ORIGINAL-URL:https://www.diocesidiroma.it
X-WR-CALDESC:Eventi per DIOCESI DI ROMA
BEGIN:VEVENT
DTSTART;TZID=Europe/Rome:20210129T110000
DTEND;TZID=Europe/Rome:20210129T110000
DTSTAMP:20260421T012212
CREATED:20210122T102524Z
LAST-MODIFIED:20210122T102524Z
UID:13239-1611918000-1611918000@www.diocesidiroma.it
SUMMARY:Nell’Aula Magna del Palazzo di Giustizia partecipa all’Assemblea Generale della Corte Suprema di Cassazione per l’inaugurazione dell’Anno Giudiziario e per la relazione sull’amministrazione della giustizia
DESCRIPTION:Nell’Aula Magna del Palazzo di Giustizia partecipa all’Assemblea Generale della Corte Suprema di Cassazione per l’inaugurazione dell’Anno Giudiziario e per la relazione sull’amministrazione della giustizia. \n
URL:https://www.diocesidiroma.it/event/nellaula-magna-del-palazzo-di-giustizia-partecipa-allassemblea-generale-della-corte-suprema-di-cassazione-per-linaugurazione-dellanno-giudiziario-e-per-la-relazione-2/
CATEGORIES:NON USARE --- Agenda del Vicario
END:VEVENT
END:VCALENDAR