BEGIN:VCALENDAR
VERSION:2.0
PRODID:-//DIOCESI DI ROMA - ECPv4.6.14.1//NONSGML v1.0//EN
CALSCALE:GREGORIAN
METHOD:PUBLISH
X-WR-CALNAME:DIOCESI DI ROMA
X-ORIGINAL-URL:https://www.diocesidiroma.it
X-WR-CALDESC:Eventi per DIOCESI DI ROMA
BEGIN:VEVENT
DTSTART;TZID=Europe/Rome:20181201T100000
DTEND;TZID=Europe/Rome:20181201T100000
DTSTAMP:20260422T072844
CREATED:20181123T091724Z
LAST-MODIFIED:20181123T091724Z
UID:5645-1543658400-1543658400@www.diocesidiroma.it
SUMMARY:Nell’Aula Nervi in Vaticano celebra la Messa per i pellegrini delle della diocesi di Molfetta–Ruvo–Giovinazzo–Terlizzi e Ugento–Santa Maria di Leuca
DESCRIPTION:Nell’Aula Nervi in Vaticano celebra la Messa per i pellegrini delle della diocesi di Molfetta–Ruvo–Giovinazzo–Terlizzi e Ugento–Santa Maria di Leuca. \n
URL:https://www.diocesidiroma.it/event/nellaula-nervi-in-vaticano-celebra-la-messa-per-i-pellegrini-delle-della-diocesi-di-molfetta-ruvo-giovinazzo-terlizzi-e-ugento-santa-maria-di-leuca/
CATEGORIES:NON USARE --- Agenda del Vicario
END:VEVENT
END:VCALENDAR