BEGIN:VCALENDAR
VERSION:2.0
PRODID:-//DIOCESI DI ROMA - ECPv4.6.14.1//NONSGML v1.0//EN
CALSCALE:GREGORIAN
METHOD:PUBLISH
X-WR-CALNAME:DIOCESI DI ROMA
X-ORIGINAL-URL:https://www.diocesidiroma.it
X-WR-CALDESC:Eventi per DIOCESI DI ROMA
BEGIN:VEVENT
DTSTART;VALUE=DATE:20171208
DTEND;VALUE=DATE:20171209
DTSTAMP:20260425T192413
CREATED:20171228T120251Z
LAST-MODIFIED:20171228T120251Z
UID:459-1512691200-1512777599@www.diocesidiroma.it
SUMMARY:Omaggio floreale del S. Padre in Piazza di Spagna
DESCRIPTION:
URL:https://www.diocesidiroma.it/event/omaggio-floreale-del-s-padre-in-piazza-di-spagna/
CATEGORIES:Celebrazioni del Santo Padre
END:VEVENT
END:VCALENDAR