BEGIN:VCALENDAR
VERSION:2.0
PRODID:-//DIOCESI DI ROMA - ECPv4.6.14.1//NONSGML v1.0//EN
CALSCALE:GREGORIAN
METHOD:PUBLISH
X-WR-CALNAME:DIOCESI DI ROMA
X-ORIGINAL-URL:https://www.diocesidiroma.it
X-WR-CALDESC:Eventi per DIOCESI DI ROMA
BEGIN:VEVENT
DTSTART;TZID=Europe/Rome:20251208T150000
DTEND;TZID=Europe/Rome:20251208T150000
DTSTAMP:20260423T051103
CREATED:20251206T121508Z
LAST-MODIFIED:20251206T121508Z
UID:38952-1765206000-1765206000@www.diocesidiroma.it
SUMMARY:Omaggio floreale del Santo Padre all’Immacolata a Piazza di Spagna
DESCRIPTION:Omaggio floreale del Santo Padre all’Immacolata a Piazza di Spagna \n
URL:https://www.diocesidiroma.it/event/omaggio-floreale-del-santo-padre-allimmacolata-a-piazza-di-spagna/
CATEGORIES:Vicario Generale
END:VEVENT
END:VCALENDAR