BEGIN:VCALENDAR
VERSION:2.0
PRODID:-//DIOCESI DI ROMA - ECPv4.6.14.1//NONSGML v1.0//EN
CALSCALE:GREGORIAN
METHOD:PUBLISH
X-WR-CALNAME:DIOCESI DI ROMA
X-ORIGINAL-URL:https://www.diocesidiroma.it
X-WR-CALDESC:Eventi per DIOCESI DI ROMA
BEGIN:VEVENT
DTSTART;TZID=Europe/Rome:20260321T180000
DTEND;TZID=Europe/Rome:20260321T180000
DTSTAMP:20260423T175430
CREATED:20260311T151217Z
LAST-MODIFIED:20260311T151217Z
UID:40481-1774116000-1774116000@www.diocesidiroma.it
SUMMARY:Ordinazione Diaconale presso la parrocchia San Leone I
DESCRIPTION:Ordinazione Diaconale presso la parrocchia San Leone I \n
URL:https://www.diocesidiroma.it/event/ordinazione-diaconale-presso-la-parrocchia-san-leone-i/
CATEGORIES:Vicario Generale
END:VEVENT
END:VCALENDAR