BEGIN:VCALENDAR
VERSION:2.0
PRODID:-//DIOCESI DI ROMA - ECPv4.6.14.1//NONSGML v1.0//EN
CALSCALE:GREGORIAN
METHOD:PUBLISH
X-WR-CALNAME:DIOCESI DI ROMA
X-ORIGINAL-URL:https://www.diocesidiroma.it
X-WR-CALDESC:Eventi per DIOCESI DI ROMA
BEGIN:VEVENT
DTSTART;TZID=Europe/Rome:20250104T160000
DTEND;TZID=Europe/Rome:20250104T160000
DTSTAMP:20260424T111834
CREATED:20241230T074301Z
LAST-MODIFIED:20241230T074311Z
UID:32883-1736006400-1736006400@www.diocesidiroma.it
SUMMARY:Ordinazione episcopale di monsignor Renato Tarantelli Baccari a San Giovanni in Laterano
DESCRIPTION:Ordinazione episcopale di monsignor Renato Tarantelli Baccari a San Giovanni in Laterano \n
URL:https://www.diocesidiroma.it/event/ordinazione-episcopale-di-monsignor-renato-tarantelli-baccari-a-san-giovanni-in-laterano/
CATEGORIES:Vicario Generale
END:VEVENT
END:VCALENDAR