BEGIN:VCALENDAR
VERSION:2.0
PRODID:-//DIOCESI DI ROMA - ECPv4.6.14.1//NONSGML v1.0//EN
CALSCALE:GREGORIAN
METHOD:PUBLISH
X-WR-CALNAME:DIOCESI DI ROMA
X-ORIGINAL-URL:https://www.diocesidiroma.it
X-WR-CALDESC:Eventi per DIOCESI DI ROMA
BEGIN:VEVENT
DTSTART;TZID=Europe/Rome:20191123T170000
DTEND;TZID=Europe/Rome:20191123T170000
DTSTAMP:20260424T113857
CREATED:20190917T123134Z
LAST-MODIFIED:20190917T123134Z
UID:8557-1574528400-1574528400@www.diocesidiroma.it
SUMMARY:Ordinazioni dei diaconi permanenti nella basilica di San Giovanni in Laterano
DESCRIPTION:Ordinazioni dei diaconi permanenti nella basilica di San Giovanni in Laterano. \n
URL:https://www.diocesidiroma.it/event/ordinazioni-dei-diaconi-permanenti-nella-basilica-di-san-giovanni-in-laterano/
CATEGORIES:In Diocesi
END:VEVENT
END:VCALENDAR