BEGIN:VCALENDAR
VERSION:2.0
PRODID:-//DIOCESI DI ROMA - ECPv4.6.14.1//NONSGML v1.0//EN
CALSCALE:GREGORIAN
METHOD:PUBLISH
X-WR-CALNAME:DIOCESI DI ROMA
X-ORIGINAL-URL:https://www.diocesidiroma.it
X-WR-CALDESC:Eventi per DIOCESI DI ROMA
BEGIN:VEVENT
DTSTART;TZID=Europe/Rome:20260207T110000
DTEND;TZID=Europe/Rome:20260207T110000
DTSTAMP:20260421T182802
CREATED:20260129T115519Z
LAST-MODIFIED:20260129T115519Z
UID:39720-1770462000-1770462000@www.diocesidiroma.it
SUMMARY:Ordinazioni diaconali presso la basilica dei Santi Giovanni e Paolo al Celio
DESCRIPTION:Ordinazioni diaconali presso la basilica dei Santi Giovanni e Paolo al Celio \n
URL:https://www.diocesidiroma.it/event/ordinazioni-diaconali-presso-la-basilica-dei-santi-giovanni-e-paolo-al-celio/
CATEGORIES:Vicario Generale
END:VEVENT
END:VCALENDAR