BEGIN:VCALENDAR
VERSION:2.0
PRODID:-//DIOCESI DI ROMA - ECPv4.6.14.1//NONSGML v1.0//EN
CALSCALE:GREGORIAN
METHOD:PUBLISH
X-WR-CALNAME:DIOCESI DI ROMA
X-ORIGINAL-URL:https://www.diocesidiroma.it
X-WR-CALDESC:Eventi per DIOCESI DI ROMA
BEGIN:VEVENT
DTSTART;TZID=Europe/Rome:20180719T100000
DTEND;TZID=Europe/Rome:20180719T100000
DTSTAMP:20260425T200151
CREATED:20180713T103804Z
LAST-MODIFIED:20180713T104023Z
UID:3994-1531994400-1531994400@www.diocesidiroma.it
SUMMARY:Ore 10\,00 Concistoro per la Canonizzazione del Beato Nunzio Sulprizio...
DESCRIPTION:Ore 10\,00 nella sala del Concistoro del Palazzo Apostolico partecipa al Concistoro Ordinario Pubblico per la Canonizzazione del Beato Nunzio Sulprizio. \n
URL:https://www.diocesidiroma.it/event/ore-1000-concistoro-canonizzazione-del-beato-nunzio-sulprizio/
CATEGORIES:NON USARE --- Agenda del Vicario
END:VEVENT
END:VCALENDAR