BEGIN:VCALENDAR
VERSION:2.0
PRODID:-//DIOCESI DI ROMA - ECPv4.6.14.1//NONSGML v1.0//EN
CALSCALE:GREGORIAN
METHOD:PUBLISH
X-WR-CALNAME:DIOCESI DI ROMA
X-ORIGINAL-URL:https://www.diocesidiroma.it
X-WR-CALDESC:Eventi per DIOCESI DI ROMA
BEGIN:VEVENT
DTSTART;TZID=Europe/Rome:20180603T100000
DTEND;TZID=Europe/Rome:20180603T170000
DTSTAMP:20260423T200952
CREATED:20180525T083534Z
LAST-MODIFIED:20180525T084344Z
UID:3205-1528020000-1528045200@www.diocesidiroma.it
SUMMARY:Ore 10\,00  Messa a S. Maria Consolatrice a Casal Bertone.
DESCRIPTION:Ore 10\,00 celebra la Messa nella Parrocchia di S. Maria Consolatrice a Casal Bertone. \n  \n
URL:https://www.diocesidiroma.it/event/ore-1000-messa-a-s-maria-consolatrice-a-casal-bertone/
CATEGORIES:NON USARE --- Agenda del Vicario
END:VEVENT
END:VCALENDAR