BEGIN:VCALENDAR
VERSION:2.0
PRODID:-//DIOCESI DI ROMA - ECPv4.6.14.1//NONSGML v1.0//EN
CALSCALE:GREGORIAN
METHOD:PUBLISH
X-WR-CALNAME:DIOCESI DI ROMA
X-ORIGINAL-URL:https://www.diocesidiroma.it
X-WR-CALDESC:Eventi per DIOCESI DI ROMA
BEGIN:VEVENT
DTSTART;TZID=Europe/Rome:20180527T103000
DTEND;TZID=Europe/Rome:20180527T103000
DTSTAMP:20260421T104202
CREATED:20180518T065956Z
LAST-MODIFIED:20180518T065956Z
UID:3069-1527417000-1527417000@www.diocesidiroma.it
SUMMARY:Ore 10\,30 Messa nella Parrocchia di Santa Giovanna Antida Thouret
DESCRIPTION:Ore 10\,30 celebra la Messa nella Parrocchia di Santa Giovanna Antida Thouret in occasione del XXV anniversario della dedicazione dell’altare. \n
URL:https://www.diocesidiroma.it/event/ore-1030-messa-nella-parrocchia-di-santa-giovanna-antida-thouret/
CATEGORIES:NON USARE --- Agenda del Vicario
END:VEVENT
END:VCALENDAR