BEGIN:VCALENDAR
VERSION:2.0
PRODID:-//DIOCESI DI ROMA - ECPv4.6.14.1//NONSGML v1.0//EN
CALSCALE:GREGORIAN
METHOD:PUBLISH
X-WR-CALNAME:DIOCESI DI ROMA
X-ORIGINAL-URL:https://www.diocesidiroma.it
X-WR-CALDESC:Eventi per DIOCESI DI ROMA
BEGIN:VEVENT
DTSTART;TZID=Europe/Rome:20180505T110000
DTEND;TZID=Europe/Rome:20180505T110000
DTSTAMP:20260424T223405
CREATED:20180430T071126Z
LAST-MODIFIED:20180430T071126Z
UID:2421-1525518000-1525518000@www.diocesidiroma.it
SUMMARY:Ore 11\,00 all’Università di Roma Tor Vergata partecipa all’incontro internazionale in occasione 50° anniversario dell’inizio del Cammino Neocatecumenale presieduto dal Santo Padre.
DESCRIPTION:
URL:https://www.diocesidiroma.it/event/ore-1100-alluniversita-di-roma-tor-vergata-partecipa-allincontro-internazionale-in-occasione-50-anniversario-dellinizio-del-cammino-neocatecumenale-presieduto-dal-san-2/
CATEGORIES:NON USARE --- Agenda del Vicario
END:VEVENT
END:VCALENDAR