BEGIN:VCALENDAR
VERSION:2.0
PRODID:-//DIOCESI DI ROMA - ECPv4.6.14.1//NONSGML v1.0//EN
CALSCALE:GREGORIAN
METHOD:PUBLISH
X-WR-CALNAME:DIOCESI DI ROMA
X-ORIGINAL-URL:https://www.diocesidiroma.it
X-WR-CALDESC:Eventi per DIOCESI DI ROMA
BEGIN:VEVENT
DTSTART;TZID=Europe/Rome:20180513T120000
DTEND;TZID=Europe/Rome:20180513T120000
DTSTAMP:20260425T155941
CREATED:20180504T103323Z
LAST-MODIFIED:20180504T103323Z
UID:2806-1526212800-1526212800@www.diocesidiroma.it
SUMMARY:Ore 12\,00 celebra la Messa nella Parrocchia di S. Pancrazio in occasione della festa patronale.
DESCRIPTION:
URL:https://www.diocesidiroma.it/event/ore-1200-celebra-la-messa-nella-parrocchia-di-s-pancrazio-in-occasione-della-festa-patronale/
CATEGORIES:NON USARE --- Agenda del Vicario
END:VEVENT
END:VCALENDAR