BEGIN:VCALENDAR
VERSION:2.0
PRODID:-//DIOCESI DI ROMA - ECPv4.6.14.1//NONSGML v1.0//EN
CALSCALE:GREGORIAN
METHOD:PUBLISH
X-WR-CALNAME:DIOCESI DI ROMA
X-ORIGINAL-URL:https://www.diocesidiroma.it
X-WR-CALDESC:Eventi per DIOCESI DI ROMA
BEGIN:VEVENT
DTSTART;TZID=Europe/Rome:20180602T120000
DTEND;TZID=Europe/Rome:20180602T120000
DTSTAMP:20260422T160436
CREATED:20180525T083259Z
LAST-MODIFIED:20180525T083259Z
UID:3201-1527940800-1527940800@www.diocesidiroma.it
SUMMARY:Ore 12:00 Messa dalle Suore Maestre Pie Venerine...
DESCRIPTION:Ore 12\,00 celebra la Messa nella Casa Generalizia delle Suore Maestre Pie Venerine in occasione dell’Assemblea del Cammino di Formazione dell’Istituto. \n
URL:https://www.diocesidiroma.it/event/ore-1200-messa-dalle-suore-maestre-pie-venerine/
CATEGORIES:NON USARE --- Agenda del Vicario
END:VEVENT
END:VCALENDAR