BEGIN:VCALENDAR
VERSION:2.0
PRODID:-//DIOCESI DI ROMA - ECPv4.6.14.1//NONSGML v1.0//EN
CALSCALE:GREGORIAN
METHOD:PUBLISH
X-WR-CALNAME:DIOCESI DI ROMA
X-ORIGINAL-URL:https://www.diocesidiroma.it
X-WR-CALDESC:Eventi per DIOCESI DI ROMA
BEGIN:VEVENT
DTSTART;TZID=Europe/Rome:20180520T154500
DTEND;TZID=Europe/Rome:20180520T154500
DTSTAMP:20260422T164507
CREATED:20180511T072842Z
LAST-MODIFIED:20180514T075841Z
UID:2933-1526831100-1526831100@www.diocesidiroma.it
SUMMARY:Ore 15\,45 celebra la Messa al Divino Amore...
DESCRIPTION:Ore 15\,45 celebra la Messa al Santuario della Madonna del Divino Amore in occasione della Festa della Famiglia organizzata organizzato dal Centro per la Pastorale Familiare diocesano. \n
URL:https://www.diocesidiroma.it/event/ore-1545-celebra-la-messa-al-santuario-della-madonna-del-divino-amore-in-occasione-della-festa-della-famiglia-organizzata-organizzato-dal-centro-per-la-pastorale-familiare-diocesano/
CATEGORIES:NON USARE --- Agenda del Vicario
END:VEVENT
END:VCALENDAR