BEGIN:VCALENDAR
VERSION:2.0
PRODID:-//DIOCESI DI ROMA - ECPv4.6.14.1//NONSGML v1.0//EN
CALSCALE:GREGORIAN
METHOD:PUBLISH
X-WR-CALNAME:DIOCESI DI ROMA
X-ORIGINAL-URL:https://www.diocesidiroma.it
X-WR-CALDESC:Eventi per DIOCESI DI ROMA
BEGIN:VEVENT
DTSTART;TZID=Europe/Rome:20180506T160000
DTEND;TZID=Europe/Rome:20180506T160000
DTSTAMP:20260425T022351
CREATED:20180430T073208Z
LAST-MODIFIED:20180430T073208Z
UID:2425-1525622400-1525622400@www.diocesidiroma.it
SUMMARY:Ore 16\,00 accoglie il Santo Padre in visita alla Parrocchia di SS. Sacramento a Tor de’ Schiavi.
DESCRIPTION:
URL:https://www.diocesidiroma.it/event/ore-1600-accoglie-il-santo-padre-in-visita-alla-parrocchia-di-ss-sacramento-a-tor-de-schiavi/
CATEGORIES:NON USARE --- Agenda del Vicario
END:VEVENT
END:VCALENDAR