BEGIN:VCALENDAR
VERSION:2.0
PRODID:-//DIOCESI DI ROMA - ECPv4.6.14.1//NONSGML v1.0//EN
CALSCALE:GREGORIAN
METHOD:PUBLISH
X-WR-CALNAME:DIOCESI DI ROMA
X-ORIGINAL-URL:https://www.diocesidiroma.it
X-WR-CALDESC:Eventi per DIOCESI DI ROMA
BEGIN:VEVENT
DTSTART;TZID=Europe/Rome:20180625T160000
DTEND;TZID=Europe/Rome:20180625T160000
DTSTAMP:20260423T035836
CREATED:20180622T092231Z
LAST-MODIFIED:20180622T092250Z
UID:3681-1529942400-1529942400@www.diocesidiroma.it
SUMMARY:Ore 16\,00 alla Camera di Commercio di Roma...
DESCRIPTION:Ore 16\,00 alla Camera di Commercio di Roma partecipa all’incontro “Generiamo lavORO” organizzato dall’Ufficio diocesano per la Pastorale Sociale con le ACLI provinciali di Roma. \n  \n
URL:https://www.diocesidiroma.it/event/ore-1600-alla-camera-di-commercio-di-roma/
CATEGORIES:NON USARE --- Agenda del Vicario
END:VEVENT
END:VCALENDAR