BEGIN:VCALENDAR
VERSION:2.0
PRODID:-//DIOCESI DI ROMA - ECPv4.6.14.1//NONSGML v1.0//EN
CALSCALE:GREGORIAN
METHOD:PUBLISH
X-WR-CALNAME:DIOCESI DI ROMA
X-ORIGINAL-URL:https://www.diocesidiroma.it
X-WR-CALDESC:Eventi per DIOCESI DI ROMA
BEGIN:VEVENT
DTSTART;TZID=Europe/Rome:20180517T170000
DTEND;TZID=Europe/Rome:20180517T170000
DTSTAMP:20260425T113526
CREATED:20180511T072245Z
LAST-MODIFIED:20180514T080610Z
UID:2921-1526576400-1526576400@www.diocesidiroma.it
SUMMARY:Ore 17\,00 celebra la Messa per Beato Novarese...
DESCRIPTION:Ore 17\,00 celebra la Messa nella Chiesa dell’Arciconfraternita del Suffragio in occasione del V anno della Beatificazione del Beato Novarese. \n
URL:https://www.diocesidiroma.it/event/ore-1700-celebra-la-messa-nella-chiesa-dellarciconfraternita-del-suffragio-in-occasione-del-v-anno-della-beatificazione-del-beato-novarese/
CATEGORIES:NON USARE --- Agenda del Vicario
END:VEVENT
END:VCALENDAR