BEGIN:VCALENDAR
VERSION:2.0
PRODID:-//DIOCESI DI ROMA - ECPv4.6.14.1//NONSGML v1.0//EN
CALSCALE:GREGORIAN
METHOD:PUBLISH
X-WR-CALNAME:DIOCESI DI ROMA
X-ORIGINAL-URL:https://www.diocesidiroma.it
X-WR-CALDESC:Eventi per DIOCESI DI ROMA
BEGIN:VEVENT
DTSTART;TZID=Europe/Rome:20180527T173000
DTEND;TZID=Europe/Rome:20180527T173000
DTSTAMP:20260421T043250
CREATED:20180518T070045Z
LAST-MODIFIED:20180518T070100Z
UID:3071-1527442200-1527442200@www.diocesidiroma.it
SUMMARY:Ore 17\,30 Messa nella Parrocchia di S. Maria Liberatrice
DESCRIPTION:Ore 17\,30 celebra la Messa nella Parrocchia di S. Maria Liberatrice in occasione della festa patronale. \n
URL:https://www.diocesidiroma.it/event/ore-1730-celebra-la-messa-nella-parrocchia-di-s-maria-liberatrice-in-occasione-della-festa-patronale/
CATEGORIES:NON USARE --- Agenda del Vicario
END:VEVENT
END:VCALENDAR