BEGIN:VCALENDAR
VERSION:2.0
PRODID:-//DIOCESI DI ROMA - ECPv4.6.14.1//NONSGML v1.0//EN
CALSCALE:GREGORIAN
METHOD:PUBLISH
X-WR-CALNAME:DIOCESI DI ROMA
X-ORIGINAL-URL:https://www.diocesidiroma.it
X-WR-CALDESC:Eventi per DIOCESI DI ROMA
BEGIN:VEVENT
DTSTART;TZID=Europe/Rome:20180616T173000
DTEND;TZID=Europe/Rome:20180616T173000
DTSTAMP:20260422T131405
CREATED:20180608T112937Z
LAST-MODIFIED:20180608T112937Z
UID:3453-1529170200-1529170200@www.diocesidiroma.it
SUMMARY:Ore 17\,30 Messa con la Comunità del Seminario Romano Maggiore
DESCRIPTION:Ore 17\,30 celebra la Messa con la Comunità del Pontificio Seminario Romano Maggiore. \n  \n
URL:https://www.diocesidiroma.it/event/ore-1730-messa-con-la-comunita-del-seminario-romano-maggiore/
CATEGORIES:NON USARE --- Agenda del Vicario
END:VEVENT
END:VCALENDAR