BEGIN:VCALENDAR
VERSION:2.0
PRODID:-//DIOCESI DI ROMA - ECPv4.6.14.1//NONSGML v1.0//EN
CALSCALE:GREGORIAN
METHOD:PUBLISH
X-WR-CALNAME:DIOCESI DI ROMA
X-ORIGINAL-URL:https://www.diocesidiroma.it
X-WR-CALDESC:Eventi per DIOCESI DI ROMA
BEGIN:VEVENT
DTSTART;TZID=Europe/Rome:20180609T180000
DTEND;TZID=Europe/Rome:20180609T180000
DTSTAMP:20260424T061151
CREATED:20180601T070206Z
LAST-MODIFIED:20180601T070206Z
UID:3300-1528567200-1528567200@www.diocesidiroma.it
SUMMARY:Ore 18\,00 Messa nella Parrocchia S. Alessandro Martire...
DESCRIPTION:Ore 18\,00 celebra la Messa nella Parrocchia S. Alessandro Martire in occasione dei 100 anni della dedicazione della Chiesa. \n  \n
URL:https://www.diocesidiroma.it/event/ore-1800-messa-nella-parrocchia-s-alessandro-martire/
CATEGORIES:NON USARE --- Agenda del Vicario
END:VEVENT
END:VCALENDAR