BEGIN:VCALENDAR
VERSION:2.0
PRODID:-//DIOCESI DI ROMA - ECPv4.6.14.1//NONSGML v1.0//EN
CALSCALE:GREGORIAN
METHOD:PUBLISH
X-WR-CALNAME:DIOCESI DI ROMA
X-ORIGINAL-URL:https://www.diocesidiroma.it
X-WR-CALDESC:Eventi per DIOCESI DI ROMA
BEGIN:VEVENT
DTSTART;TZID=Europe/Rome:20180602T190000
DTEND;TZID=Europe/Rome:20180602T190000
DTSTAMP:20260423T080113
CREATED:20180525T083425Z
LAST-MODIFIED:20180525T083425Z
UID:3203-1527966000-1527966000@www.diocesidiroma.it
SUMMARY:Ore 19\,00  Messa a S. Maria Assunta e S. Giuseppe a Primavalle
DESCRIPTION:Ore 19\,00 celebra la Messa nella Parrocchia S. Maria Assunta e S. Giuseppe a Primavalle a conclusione del Cammino della Madonna Pellegrina di Fatima. \n  \n
URL:https://www.diocesidiroma.it/event/ore-1900-messa-a-s-maria-assunta-e-s-giuseppe-a-primavalle/
CATEGORIES:NON USARE --- Agenda del Vicario
END:VEVENT
END:VCALENDAR